BEGIN:VCALENDAR
VERSION:2.0
PRODID:-//Pack 41 - ECPv6.15.20//NONSGML v1.0//EN
CALSCALE:GREGORIAN
METHOD:PUBLISH
X-WR-CALNAME:Pack 41
X-ORIGINAL-URL:https://columbuspack41.com
X-WR-CALDESC:Events for Pack 41
REFRESH-INTERVAL;VALUE=DURATION:PT1H
X-Robots-Tag:noindex
X-PUBLISHED-TTL:PT1H
BEGIN:VTIMEZONE
TZID:America/New_York
BEGIN:DAYLIGHT
TZOFFSETFROM:-0500
TZOFFSETTO:-0400
TZNAME:EDT
DTSTART:20240310T070000
END:DAYLIGHT
BEGIN:STANDARD
TZOFFSETFROM:-0400
TZOFFSETTO:-0500
TZNAME:EST
DTSTART:20241103T060000
END:STANDARD
BEGIN:DAYLIGHT
TZOFFSETFROM:-0500
TZOFFSETTO:-0400
TZNAME:EDT
DTSTART:20250309T070000
END:DAYLIGHT
BEGIN:STANDARD
TZOFFSETFROM:-0400
TZOFFSETTO:-0500
TZNAME:EST
DTSTART:20251102T060000
END:STANDARD
BEGIN:DAYLIGHT
TZOFFSETFROM:-0500
TZOFFSETTO:-0400
TZNAME:EDT
DTSTART:20260308T070000
END:DAYLIGHT
BEGIN:STANDARD
TZOFFSETFROM:-0400
TZOFFSETTO:-0500
TZNAME:EST
DTSTART:20261101T060000
END:STANDARD
END:VTIMEZONE
BEGIN:VEVENT
DTSTART;TZID=America/New_York:20251104T140000
DTEND;TZID=America/New_York:20251104T150000
DTSTAMP:20260419T110000
CREATED:20251103T052210Z
LAST-MODIFIED:20251103T052210Z
UID:1086-1762264800-1762268400@columbuspack41.com
SUMMARY:NO Scouts\, Tuesday 11/4/2025
DESCRIPTION:NO SCOUTS on Tuesday\, 11/4/2025.\n\n\nColumbus City Schools has no school\, so no scouts meeting. A few leaders may chose to meet\, but most will not. Check your email for details.
URL:https://columbuspack41.com/event/no-scouts-tuesday-11-4-2025/
LOCATION:Ohio
END:VEVENT
BEGIN:VEVENT
DTSTART;TZID=America/New_York:20251109T080000
DTEND;TZID=America/New_York:20251109T120000
DTSTAMP:20260419T110000
CREATED:20250905T072820Z
LAST-MODIFIED:20250905T072820Z
UID:1055-1762675200-1762689600@columbuspack41.com
SUMMARY:(optional) Howl of Duty
DESCRIPTION:Howl of Duty connects Scouts with the ideas of service\, sacrifice\, and patriotism while helping them learn about the United States military and our Veterans community. Scouts tour the museum while completing a series of activities that result in them earning and being awarded adventure loops at the event. \nTigers will complete the Good Knights adventure Wolves will complete the Council Fire: Duty to Country adventure Bears will complete the Paws for Action adventure \n\nParticipating Scouts: $10 (Fee covers patch\, event admission\, museum admission – NO BELT LOOPS WILL BE GIVEN OUT)\nNon-Participants: $3 Museum Fee\nPlease bring 1 or more canned good/personal hygine items to donate for a group service project!\n\nHOWL OF DUTY is an annual event organized by Simon Kenton Council’s Gateway District\, but it is open to any Scout of any rank or district. Come learn\, have fun\, and adventure with us! \nParticipants needs about 60-90 minutes to complete everything\, so plan accordingly as the museum closes at 5pm. There will be no admissions after 4;30pm. HOWL OF DUTY is self-paced\, so you start whenever you arrive and finish when you’re done. \nWait? TIGERS can participate? Yes – that’s new this year because of changes to some of the adventures. \n\n\n\nREGISTER HERE: https://scoutingevent.com/441-howlofduty25
URL:https://columbuspack41.com/event/optional-howl-of-duty/
LOCATION:Motts Military Musuem\, 5075 S Hamilton Rd\, Groveport\, OH\, 43125\, United States
END:VEVENT
END:VCALENDAR