BEGIN:VCALENDAR
VERSION:2.0
PRODID:-//Pack 41 - ECPv6.15.20//NONSGML v1.0//EN
CALSCALE:GREGORIAN
METHOD:PUBLISH
X-WR-CALNAME:Pack 41
X-ORIGINAL-URL:https://columbuspack41.com
X-WR-CALDESC:Events for Pack 41
REFRESH-INTERVAL;VALUE=DURATION:PT1H
X-Robots-Tag:noindex
X-PUBLISHED-TTL:PT1H
BEGIN:VTIMEZONE
TZID:America/New_York
BEGIN:DAYLIGHT
TZOFFSETFROM:-0500
TZOFFSETTO:-0400
TZNAME:EDT
DTSTART:20240310T070000
END:DAYLIGHT
BEGIN:STANDARD
TZOFFSETFROM:-0400
TZOFFSETTO:-0500
TZNAME:EST
DTSTART:20241103T060000
END:STANDARD
BEGIN:DAYLIGHT
TZOFFSETFROM:-0500
TZOFFSETTO:-0400
TZNAME:EDT
DTSTART:20250309T070000
END:DAYLIGHT
BEGIN:STANDARD
TZOFFSETFROM:-0400
TZOFFSETTO:-0500
TZNAME:EST
DTSTART:20251102T060000
END:STANDARD
BEGIN:DAYLIGHT
TZOFFSETFROM:-0500
TZOFFSETTO:-0400
TZNAME:EDT
DTSTART:20260308T070000
END:DAYLIGHT
BEGIN:STANDARD
TZOFFSETFROM:-0400
TZOFFSETTO:-0500
TZNAME:EST
DTSTART:20261101T060000
END:STANDARD
END:VTIMEZONE
BEGIN:VEVENT
DTSTART;TZID=America/New_York:20251004T060000
DTEND;TZID=America/New_York:20251004T060000
DTSTAMP:20260419T123551
CREATED:20250905T074930Z
LAST-MODIFIED:20250905T075106Z
UID:1064-1759557600-1759557600@columbuspack41.com
SUMMARY:(optional) Knife Skills Adventure Day
DESCRIPTION:Please join us in the North Fields of Antrim Park and we’ll complete the requirements for your Cub scout to earn their Whittling (Bear)\, Chef’s Knife (Webelos) and Knife Safety (AOL) adventure. Please review the ‘Cub Scout Knife Safety Rules’ with your Scout before the event. Bring your own pocket knife (all other supplies will be provided)! Show up at your registered time and plan to spend about an hour completing your requirements. \n$10.00 fee covers registration\, supplies\, patch and completion card (no belt loops will be provided) \nThe event runs from 10am – 4pm.  Registration closes at 3pm! Walk-Ins welcome! \nDETAILS HERE: https://scoutingevent.com/441-knifeskillsadventure
URL:https://columbuspack41.com/event/optional-knife-skills-adventure-day/
LOCATION:Antrim Park\, 5800 Olentangy River Road\, Columbus\, OH\, United States
END:VEVENT
BEGIN:VEVENT
DTSTART;TZID=America/New_York:20251007T140000
DTEND;TZID=America/New_York:20251007T160000
DTSTAMP:20260419T123551
CREATED:20250923T055840Z
LAST-MODIFIED:20250923T055840Z
UID:1080-1759845600-1759852800@columbuspack41.com
SUMMARY:Scouts meet off site for fishing elective
DESCRIPTION:Tuesday\, October 7 – Fishing Elective\nOSU Arboretum (offsite) \nMark your calendars! Some dens will start early—please check your time slot: \n\n6:00 – 7:00 pm: Lions\, Tigers\, Wolves\n7:00 – 8:00 pm: Bears\, Webelos\, AoLs\n(If the earlier time doesn’t work for your family\, just let your den leader know—it’s fine to come later.)\n\nGPS address: 2235 Fred Taylor Drive\, Columbus\, OH 43210
URL:https://columbuspack41.com/event/scouts-meet-off-site-for-fishing-elective/
LOCATION:Chadwick Lake\, 2235 Fred Taylor Drive\, Columbus\, OH\, 43210\, United States
END:VEVENT
BEGIN:VEVENT
DTSTART;TZID=America/New_York:20251017T150000
DTEND;TZID=America/New_York:20251017T180000
DTSTAMP:20260419T123551
CREATED:20250905T075421Z
LAST-MODIFIED:20250905T075421Z
UID:1069-1760713200-1760724000@columbuspack41.com
SUMMARY:(optional) Monster Mash at Camp Lazarus (10/17\, 10/18\, 10/24\, 10/25)
DESCRIPTION:Monster Mash 2025!!!\nOctober 17\, 18\, 24\, 25 \nWalk-ins Welcome!!! \nHaunted House\, Spooky Trail\, putt-putt golf\, and more\, oh my! \n7:00 pm – 10:00 pm  Last time to start the trail is 9:00 pm in order to complete all activities by 10:00 pm \nCost $15.00 early bird on-line registration will remain open until 11:59 PM Saturday\, October 7\, 2023. Starting on Sunday\, October 8\, the only way to register for the event is as a walk-in at the event.  The cost will be $20 per person at the door.  Camping will not be available for walk-ins. \nMore details here: https://scoutingevent.com/441-25monstermash
URL:https://columbuspack41.com/event/optional-monster-mash-at-camp-lazarus-10-17-10-18-10-24-10-25/
LOCATION:Ohio
END:VEVENT
BEGIN:VEVENT
DTSTART;TZID=America/New_York:20251018T093000
DTEND;TZID=America/New_York:20251019T060000
DTSTAMP:20260419T123551
CREATED:20250910T043230Z
LAST-MODIFIED:20250910T043230Z
UID:1072-1760779800-1760853600@columbuspack41.com
SUMMARY:(optional) Fall campout at Camp Lazarus
DESCRIPTION:join the pack for a campout at Camp Lazarus! \nExact times will be confirmed soon!
URL:https://columbuspack41.com/event/optional-fall-campout-at-camp-lazarus/
LOCATION:Camp Lazarus\, 4422 Columbus Pike\, Delaware\, OH\, 43015\, United States
END:VEVENT
END:VCALENDAR