BEGIN:VCALENDAR
VERSION:2.0
PRODID:-//Pack 41 - ECPv6.15.20//NONSGML v1.0//EN
CALSCALE:GREGORIAN
METHOD:PUBLISH
X-WR-CALNAME:Pack 41
X-ORIGINAL-URL:https://columbuspack41.com
X-WR-CALDESC:Events for Pack 41
REFRESH-INTERVAL;VALUE=DURATION:PT1H
X-Robots-Tag:noindex
X-PUBLISHED-TTL:PT1H
BEGIN:VTIMEZONE
TZID:America/New_York
BEGIN:DAYLIGHT
TZOFFSETFROM:-0500
TZOFFSETTO:-0400
TZNAME:EDT
DTSTART:20240310T070000
END:DAYLIGHT
BEGIN:STANDARD
TZOFFSETFROM:-0400
TZOFFSETTO:-0500
TZNAME:EST
DTSTART:20241103T060000
END:STANDARD
BEGIN:DAYLIGHT
TZOFFSETFROM:-0500
TZOFFSETTO:-0400
TZNAME:EDT
DTSTART:20250309T070000
END:DAYLIGHT
BEGIN:STANDARD
TZOFFSETFROM:-0400
TZOFFSETTO:-0500
TZNAME:EST
DTSTART:20251102T060000
END:STANDARD
BEGIN:DAYLIGHT
TZOFFSETFROM:-0500
TZOFFSETTO:-0400
TZNAME:EDT
DTSTART:20260308T070000
END:DAYLIGHT
BEGIN:STANDARD
TZOFFSETFROM:-0400
TZOFFSETTO:-0500
TZNAME:EST
DTSTART:20261101T060000
END:STANDARD
END:VTIMEZONE
BEGIN:VEVENT
DTSTART;TZID=America/New_York:20250609T040000
DTEND;TZID=America/New_York:20250612T130000
DTSTAMP:20260419T183013
CREATED:20250331T031052Z
LAST-MODIFIED:20250331T031555Z
UID:992-1749441600-1749733200@columbuspack41.com
SUMMARY:Webelos Summer Camp (optional)
DESCRIPTION:This is for kids who will be Webelos or AOLs next year (so kids going in to 4th and 5th grades next year).\nhttps://skcscouts.org/camps/summercamps/webelos-resident-camp-camp-falling-rock/\n\nScholarships are available for all camps\, apply here if you have need: https://247scouting.com/forms/441-25SKCCampership
URL:https://columbuspack41.com/event/webelos-summer-camp-optional/
LOCATION:Ohio
END:VEVENT
BEGIN:VEVENT
DTSTART;TZID=America/New_York:20250610T140000
DTEND;TZID=America/New_York:20250610T160000
DTSTAMP:20260419T183013
CREATED:20250522T040500Z
LAST-MODIFIED:20250522T050349Z
UID:1010-1749564000-1749571200@columbuspack41.com
SUMMARY:(optional) Sharon Woods-Schrock Lake
DESCRIPTION:Pack 41 has a range of optional events to participate in this summer. Do 3 and earn a “summer adventure” belt loop! \nDo a hike at Sharon Woods. Meet at Schrock Lake at 6pm. Contact Jennifer Rounds (lion leader) for more info. \nSharon Woods
URL:https://columbuspack41.com/event/optional-sharon-woods-schrock-lake/
LOCATION:Sharon Woods
END:VEVENT
BEGIN:VEVENT
DTSTART;TZID=America/New_York:20250615T050000
DTEND;TZID=America/New_York:20250615T063000
DTSTAMP:20260419T183013
CREATED:20250605T063042Z
LAST-MODIFIED:20250605T063930Z
UID:1036-1749963600-1749969000@columbuspack41.com
SUMMARY:(optional) Pack Service project--clean up State Fairgrounds!
DESCRIPTION:Come join the pack and help clean up the Ohio State Fairgrounds! \nBring tools to help beautify the Fairgrounds and they’ll have some we can use. \n**MEET AT GATE 7 off of 11th Ave***  (Gate 7 which is directly across the street from Jegs on 11th Ave/71). \nJegs’s address: 751 E 11th Ave\, Columbus\, OH 43211
URL:https://columbuspack41.com/event/pack-service-project-clean-up-state-fairgrounds/
LOCATION:Ohio State Fairgrounds\, enter from 11th Street (Gate 7)\, Columbus\, OH
END:VEVENT
BEGIN:VEVENT
DTSTART;TZID=America/New_York:20250620T150000
DTEND;TZID=America/New_York:20250620T180000
DTSTAMP:20260419T183013
CREATED:20250408T170306Z
LAST-MODIFIED:20250522T045039Z
UID:1006-1750431600-1750442400@columbuspack41.com
SUMMARY:Clippers Scout Night (optional)
DESCRIPTION:Clippers vs Indianapolis. More details to come!
URL:https://columbuspack41.com/event/clippers-scout-night/
LOCATION:Huntington Park\, 330 Huntington Park Ln.\, Columbus\, Ohio\, 43215
END:VEVENT
BEGIN:VEVENT
DTSTART;TZID=America/New_York:20250624T150000
DTEND;TZID=America/New_York:20250624T163000
DTSTAMP:20260419T183013
CREATED:20250522T040713Z
LAST-MODIFIED:20250624T184837Z
UID:1013-1750777200-1750782600@columbuspack41.com
SUMMARY:CANCELLED: Neighborhood Clean-up @ NBUMC
DESCRIPTION:6/23/25 update: Clean Up has been cancelled due to heat. \nPack 41 has a range of optional events to participate in this summer. Do 3 and earn a “summer adventure” belt loop! \nNeighborhood Clean-up around North Broadway United Methodist Church! Organized by Aaron Lantz
URL:https://columbuspack41.com/event/optional-neighborhood-clean-up-nbumc/
LOCATION:North Broadway United Methodist Church\, 48 E N Broadway\, Columbus\, 43214\, United States
END:VEVENT
END:VCALENDAR