BEGIN:VCALENDAR
VERSION:2.0
PRODID:-//Pack 41 - ECPv6.15.20//NONSGML v1.0//EN
CALSCALE:GREGORIAN
METHOD:PUBLISH
X-WR-CALNAME:Pack 41
X-ORIGINAL-URL:https://columbuspack41.com
X-WR-CALDESC:Events for Pack 41
REFRESH-INTERVAL;VALUE=DURATION:PT1H
X-Robots-Tag:noindex
X-PUBLISHED-TTL:PT1H
BEGIN:VTIMEZONE
TZID:America/New_York
BEGIN:DAYLIGHT
TZOFFSETFROM:-0500
TZOFFSETTO:-0400
TZNAME:EDT
DTSTART:20240310T070000
END:DAYLIGHT
BEGIN:STANDARD
TZOFFSETFROM:-0400
TZOFFSETTO:-0500
TZNAME:EST
DTSTART:20241103T060000
END:STANDARD
BEGIN:DAYLIGHT
TZOFFSETFROM:-0500
TZOFFSETTO:-0400
TZNAME:EDT
DTSTART:20250309T070000
END:DAYLIGHT
BEGIN:STANDARD
TZOFFSETFROM:-0400
TZOFFSETTO:-0500
TZNAME:EST
DTSTART:20251102T060000
END:STANDARD
BEGIN:DAYLIGHT
TZOFFSETFROM:-0500
TZOFFSETTO:-0400
TZNAME:EDT
DTSTART:20260308T070000
END:DAYLIGHT
BEGIN:STANDARD
TZOFFSETFROM:-0400
TZOFFSETTO:-0500
TZNAME:EST
DTSTART:20261101T060000
END:STANDARD
END:VTIMEZONE
BEGIN:VEVENT
DTSTART;TZID=America/New_York:20250412T033000
DTEND;TZID=America/New_York:20250413T070000
DTSTAMP:20260419T212657
CREATED:20250331T030327Z
LAST-MODIFIED:20250331T030327Z
UID:989-1744428600-1744527600@columbuspack41.com
SUMMARY:BALOO Training (for adults)
DESCRIPTION:BALOO training for adults! In order to take our Cub Scouts camping\, we need to have BALOO trained adults at every event. This training covers outdoor safety and camping along with other topics. We just lost a few of our BALOO trained adults who crossed over with their AOLs. The more trained adults we have\, the more options we have for camping. https://scoutingevent.com/441-2025_Daybreak_BALOO
URL:https://columbuspack41.com/event/baloo-training-for-adults/
LOCATION:Camp Falling Rock\, 12637 Houdeshell Rd\, Newark\, Ohio\, 43055
END:VEVENT
BEGIN:VEVENT
DTSTART;TZID=America/New_York:20250412T080000
DTEND;TZID=America/New_York:20250412T120000
DTSTAMP:20260419T212657
CREATED:20250331T025439Z
LAST-MODIFIED:20250331T025439Z
UID:987-1744444800-1744459200@columbuspack41.com
SUMMARY:Bike Rodeo
DESCRIPTION:April 12 2pm-4pm at NBUMC Parking lot: Pack 41 Bike Rodeo! Cubs should bring their bikes and helmets as we learn about bike safety\, do some tune ups\, ride a bike course\, and have a special visit from a First Responder bike team! We will need some parent volunteers — more info to come on this.
URL:https://columbuspack41.com/event/bike-rodeo-2/
LOCATION:North Broadway United Methodist Church\, 48 E N Broadway\, Columbus\, 43214\, United States
END:VEVENT
BEGIN:VEVENT
DTSTART;TZID=America/New_York:20250413T050000
DTEND;TZID=America/New_York:20250413T090000
DTSTAMP:20260419T212657
CREATED:20250303T221947Z
LAST-MODIFIED:20250303T221947Z
UID:967-1744520400-1744534800@columbuspack41.com
SUMMARY:BioBlitz at Camp Lazarus
DESCRIPTION:Work with other scouts to record as many species as possible within a set area at Camp Lazarus! \nLunch and patch provided
URL:https://columbuspack41.com/event/bioblitz-at-camp-lazarus/
LOCATION:Camp Lazarus\, 4422 Columbus Pike\, Delaware\, OH\, 43015\, United States
END:VEVENT
BEGIN:VEVENT
DTSTART;TZID=America/New_York:20250421T200000
DTEND;TZID=America/New_York:20250422T195959
DTSTAMP:20260419T212657
CREATED:20250118T193752Z
LAST-MODIFIED:20250118T193752Z
UID:926-1745265600-1745351999@columbuspack41.com
SUMMARY:NO MEETING (CCS Spring Break)
DESCRIPTION:
URL:https://columbuspack41.com/event/no-meeting-ccs-spring-break/
LOCATION:Ohio
END:VEVENT
END:VCALENDAR