BEGIN:VCALENDAR
VERSION:2.0
PRODID:-//Pack 41 - ECPv6.15.20//NONSGML v1.0//EN
CALSCALE:GREGORIAN
METHOD:PUBLISH
X-WR-CALNAME:Pack 41
X-ORIGINAL-URL:https://columbuspack41.com
X-WR-CALDESC:Events for Pack 41
REFRESH-INTERVAL;VALUE=DURATION:PT1H
X-Robots-Tag:noindex
X-PUBLISHED-TTL:PT1H
BEGIN:VTIMEZONE
TZID:America/New_York
BEGIN:DAYLIGHT
TZOFFSETFROM:-0500
TZOFFSETTO:-0400
TZNAME:EDT
DTSTART:20240310T070000
END:DAYLIGHT
BEGIN:STANDARD
TZOFFSETFROM:-0400
TZOFFSETTO:-0500
TZNAME:EST
DTSTART:20241103T060000
END:STANDARD
BEGIN:DAYLIGHT
TZOFFSETFROM:-0500
TZOFFSETTO:-0400
TZNAME:EDT
DTSTART:20250309T070000
END:DAYLIGHT
BEGIN:STANDARD
TZOFFSETFROM:-0400
TZOFFSETTO:-0500
TZNAME:EST
DTSTART:20251102T060000
END:STANDARD
BEGIN:DAYLIGHT
TZOFFSETFROM:-0500
TZOFFSETTO:-0400
TZNAME:EDT
DTSTART:20260308T070000
END:DAYLIGHT
BEGIN:STANDARD
TZOFFSETFROM:-0400
TZOFFSETTO:-0500
TZNAME:EST
DTSTART:20261101T060000
END:STANDARD
END:VTIMEZONE
BEGIN:VEVENT
DTSTART;TZID=America/New_York:20250301T040000
DTEND;TZID=America/New_York:20250301T070000
DTSTAMP:20260419T230321
CREATED:20250225T074956Z
LAST-MODIFIED:20250225T074956Z
UID:946-1740801600-1740812400@columbuspack41.com
SUMMARY:Lion Adventure Day
DESCRIPTION:A chance for Lion Scouts to earn an elective! https://scoutingevent.com/441-25_Gateway_LionDay \npdf: https://scoutingevent.com/Download/441142675/OR/2025_Gateway_Lion_Day.pdf
URL:https://columbuspack41.com/event/lion-adventure-day/
LOCATION:St. Michaels Cafeteria\, 64 E. Selby Blvd\, Worthington\, OH\, 43085\, United States
END:VEVENT
BEGIN:VEVENT
DTSTART;TZID=America/New_York:20250304T123000
DTEND;TZID=America/New_York:20250304T140000
DTSTAMP:20260419T230321
CREATED:20250225T075252Z
LAST-MODIFIED:20250225T075252Z
UID:950-1741091400-1741096800@columbuspack41.com
SUMMARY:NBUMC Shrove Pancake Dinner Fundraiser
DESCRIPTION:Come before the scout meeting to eat some pancakes and support the NBUMC Youth Group. Register here:\nhttps://onrealm.org/NBumcSNC/PublicRegistrations/Event?linkString=MzJjNTZjNzktYzk3OS00YTRlLWIxYzItYjI4MjAxNTI5MjFl\n\n💰$5 kids 12 and under\n💵 $10 over 12\nmore details about the Pancake dinner here: https://www.instagram.com/northbroadwayumc/p/DGUDuVYNKO2/ 
URL:https://columbuspack41.com/event/nbumc-shrove-pancake-dinner-fundraiser/
LOCATION:North Broadway United Methodist Church\, 48 E N Broadway\, Columbus\, 43214\, United States
END:VEVENT
BEGIN:VEVENT
DTSTART;TZID=America/New_York:20250318T140000
DTEND;TZID=America/New_York:20250318T150000
DTSTAMP:20260419T230321
CREATED:20250317T011235Z
LAST-MODIFIED:20250317T011235Z
UID:978-1742306400-1742310000@columbuspack41.com
SUMMARY:Buddhist Temple visit (Tigers\, Wolves\, & Webelos)
DESCRIPTION:Tigers\, Wolves\, and Webelos  will visit the Columbus KTC Buddhist Center instead of joining the rest of the pack at NBUMC on this day. \n* note: attendees should wear clean socks \nKTC Buddhist Center Address: 645 W Rich St\, Columbus\, OH 43215
URL:https://columbuspack41.com/event/buddhist-temple-visit-tigers-wolves-webelos/
LOCATION:Ohio
END:VEVENT
BEGIN:VEVENT
DTSTART;TZID=America/New_York:20250324T140000
DTEND;TZID=America/New_York:20250324T160000
DTSTAMP:20260419T230321
CREATED:20250303T221739Z
LAST-MODIFIED:20250304T003307Z
UID:963-1742824800-1742832000@columbuspack41.com
SUMMARY:Pack 41 Swimming Fun
DESCRIPTION:Come join Pack 41 for an evening of swimming fun at the Worthington Community Center! \nFree for scouts and 1 adult; entrance fee required for additional family members
URL:https://columbuspack41.com/event/pack-41-swimming-fun/
LOCATION:Worthington Community Center\, 345 E Wilson Bridge Rd\, Worthington\, OH\, 43085\, United States
END:VEVENT
BEGIN:VEVENT
DTSTART;TZID=America/New_York:20250325T150000
DTEND;TZID=America/New_York:20250325T160000
DTSTAMP:20260419T230321
CREATED:20250317T011410Z
LAST-MODIFIED:20250317T011458Z
UID:980-1742914800-1742918400@columbuspack41.com
SUMMARY:Some dens not meeting
DESCRIPTION:Some dens are not meeting on Tuesday\, 3/25\, because we will be at the Worthington Pool for the popcorn party this week. Check with your Den Leader on whether or not your den is meeting.
URL:https://columbuspack41.com/event/some-dens-not-meeting/
LOCATION:Ohio
END:VEVENT
BEGIN:VEVENT
DTSTART;TZID=America/New_York:20250328T150000
DTEND;TZID=America/New_York:20250328T190000
DTSTAMP:20260419T230321
CREATED:20250225T075813Z
LAST-MODIFIED:20250225T075813Z
UID:953-1743174000-1743188400@columbuspack41.com
SUMMARY:Blue Jackets Scout Night
DESCRIPTION:CBJ x Scouting America night! \nColumbus Blue Jackets vs. Vancouver Canucks \nInfo here https://bluejackets.spinzo.com/?group=scout-night-5wvf and \nhere: https://bluejackets.spinzo.com/cbj-vs-vancouver-canucks-2025-03-28-NWKKW?group=scout-night-5wvf \nticket prices start at $36.50/ticket
URL:https://columbuspack41.com/event/blue-jackets-scout-night/
LOCATION:Nationwide Arena\, 200 W Nationwide Blvd\, Columbus\, OH\, 43215
END:VEVENT
BEGIN:VEVENT
DTSTART;TZID=America/New_York:20250330T040000
DTEND;TZID=America/New_York:20250330T130000
DTSTAMP:20260419T230321
CREATED:20250331T032501Z
LAST-MODIFIED:20250331T032501Z
UID:1000-1743307200-1743339600@columbuspack41.com
SUMMARY:Early Bird registration ends for summer camps
DESCRIPTION:see below for various scouting camps available this summer. Early bird pricing ends 3/31.
URL:https://columbuspack41.com/event/early-bird-registration-ends-for-summer-camps/
LOCATION:Ohio
END:VEVENT
BEGIN:VEVENT
DTSTART;TZID=America/New_York:20250330T200000
DTEND;TZID=America/New_York:20250331T195959
DTSTAMP:20260419T230321
CREATED:20250331T033314Z
LAST-MODIFIED:20250331T033314Z
UID:1002-1743364800-1743451199@columbuspack41.com
SUMMARY:Early Bird pricing for summer camps ends
DESCRIPTION:early bird pricing for summer scouting camps ends 3/31/2025 \nsee below for information on camps
URL:https://columbuspack41.com/event/early-bird-pricing-for-summer-camps-ends/
LOCATION:Ohio
END:VEVENT
END:VCALENDAR