BEGIN:VCALENDAR
VERSION:2.0
PRODID:-//Pack 41 - ECPv6.15.20//NONSGML v1.0//EN
CALSCALE:GREGORIAN
METHOD:PUBLISH
X-WR-CALNAME:Pack 41
X-ORIGINAL-URL:https://columbuspack41.com
X-WR-CALDESC:Events for Pack 41
REFRESH-INTERVAL;VALUE=DURATION:PT1H
X-Robots-Tag:noindex
X-PUBLISHED-TTL:PT1H
BEGIN:VTIMEZONE
TZID:America/New_York
BEGIN:DAYLIGHT
TZOFFSETFROM:-0500
TZOFFSETTO:-0400
TZNAME:EDT
DTSTART:20250309T070000
END:DAYLIGHT
BEGIN:STANDARD
TZOFFSETFROM:-0400
TZOFFSETTO:-0500
TZNAME:EST
DTSTART:20251102T060000
END:STANDARD
BEGIN:DAYLIGHT
TZOFFSETFROM:-0500
TZOFFSETTO:-0400
TZNAME:EDT
DTSTART:20260308T070000
END:DAYLIGHT
BEGIN:STANDARD
TZOFFSETFROM:-0400
TZOFFSETTO:-0500
TZNAME:EST
DTSTART:20261101T060000
END:STANDARD
BEGIN:DAYLIGHT
TZOFFSETFROM:-0500
TZOFFSETTO:-0400
TZNAME:EDT
DTSTART:20270314T070000
END:DAYLIGHT
BEGIN:STANDARD
TZOFFSETFROM:-0400
TZOFFSETTO:-0500
TZNAME:EST
DTSTART:20271107T060000
END:STANDARD
END:VTIMEZONE
BEGIN:VEVENT
DTSTART;TZID=America/New_York:20260123T130000
DTEND;TZID=America/New_York:20260123T140000
DTSTAMP:20260419T092134
CREATED:20260107T014407Z
LAST-MODIFIED:20260107T014407Z
UID:1120-1769173200-1769176800@columbuspack41.com
SUMMARY:Trip to Beth Tikvah (annual tour of major religions of the world)
DESCRIPTION:2026 Family + Reverence RequirementCome visit Beth Tikvah\n\nFri 1/23/2026\, 6pm\n\n6121 Olentangy River Road\n\nPack 41’s 5th annual tour of the major religions of the world\ncontact Caroline if you have questions
URL:https://columbuspack41.com/event/trip-to-beth-tikvah-annual-tour-of-major-religions-of-the-world/
LOCATION:Ohio
END:VEVENT
END:VCALENDAR