BEGIN:VCALENDAR
VERSION:2.0
PRODID:-//Pack 41 - ECPv6.15.20//NONSGML v1.0//EN
CALSCALE:GREGORIAN
METHOD:PUBLISH
X-ORIGINAL-URL:https://columbuspack41.com
X-WR-CALDESC:Events for Pack 41
REFRESH-INTERVAL;VALUE=DURATION:PT1H
X-Robots-Tag:noindex
X-PUBLISHED-TTL:PT1H
BEGIN:VTIMEZONE
TZID:America/New_York
BEGIN:DAYLIGHT
TZOFFSETFROM:-0500
TZOFFSETTO:-0400
TZNAME:EDT
DTSTART:20240310T070000
END:DAYLIGHT
BEGIN:STANDARD
TZOFFSETFROM:-0400
TZOFFSETTO:-0500
TZNAME:EST
DTSTART:20241103T060000
END:STANDARD
BEGIN:DAYLIGHT
TZOFFSETFROM:-0500
TZOFFSETTO:-0400
TZNAME:EDT
DTSTART:20250309T070000
END:DAYLIGHT
BEGIN:STANDARD
TZOFFSETFROM:-0400
TZOFFSETTO:-0500
TZNAME:EST
DTSTART:20251102T060000
END:STANDARD
BEGIN:DAYLIGHT
TZOFFSETFROM:-0500
TZOFFSETTO:-0400
TZNAME:EDT
DTSTART:20260308T070000
END:DAYLIGHT
BEGIN:STANDARD
TZOFFSETFROM:-0400
TZOFFSETTO:-0500
TZNAME:EST
DTSTART:20261101T060000
END:STANDARD
END:VTIMEZONE
BEGIN:VEVENT
DTSTART;TZID=America/New_York:20250909T150000
DTEND;TZID=America/New_York:20250909T160000
DTSTAMP:20260419T153614
CREATED:20250905T074214Z
LAST-MODIFIED:20250905T074214Z
UID:1061-1757430000-1757433600@columbuspack41.com
SUMMARY:Bring a Friend to a Pack Meeting!
DESCRIPTION:Bring a Friend / Welcome New Families Night \n\nWhen: Tuesday\, September 9 at 7:00 PM at NBUMC\nWear your uniform to school that day!\nBring a friend to Scouts that evening so they can check it out and join the fun!
URL:https://columbuspack41.com/event/bring-a-friend-to-a-pack-meeting/
LOCATION:North Broadway United Methodist Church\, 48 E N Broadway\, Columbus\, 43214\, United States
END:VEVENT
END:VCALENDAR