BEGIN:VCALENDAR
VERSION:2.0
PRODID:-//Pack 41 - ECPv6.15.20//NONSGML v1.0//EN
CALSCALE:GREGORIAN
METHOD:PUBLISH
X-ORIGINAL-URL:https://columbuspack41.com
X-WR-CALDESC:Events for Pack 41
REFRESH-INTERVAL;VALUE=DURATION:PT1H
X-Robots-Tag:noindex
X-PUBLISHED-TTL:PT1H
BEGIN:VTIMEZONE
TZID:America/New_York
BEGIN:DAYLIGHT
TZOFFSETFROM:-0500
TZOFFSETTO:-0400
TZNAME:EDT
DTSTART:20240310T070000
END:DAYLIGHT
BEGIN:STANDARD
TZOFFSETFROM:-0400
TZOFFSETTO:-0500
TZNAME:EST
DTSTART:20241103T060000
END:STANDARD
BEGIN:DAYLIGHT
TZOFFSETFROM:-0500
TZOFFSETTO:-0400
TZNAME:EDT
DTSTART:20250309T070000
END:DAYLIGHT
BEGIN:STANDARD
TZOFFSETFROM:-0400
TZOFFSETTO:-0500
TZNAME:EST
DTSTART:20251102T060000
END:STANDARD
BEGIN:DAYLIGHT
TZOFFSETFROM:-0500
TZOFFSETTO:-0400
TZNAME:EDT
DTSTART:20260308T070000
END:DAYLIGHT
BEGIN:STANDARD
TZOFFSETFROM:-0400
TZOFFSETTO:-0500
TZNAME:EST
DTSTART:20261101T060000
END:STANDARD
END:VTIMEZONE
BEGIN:VEVENT
DTSTART;TZID=America/New_York:20250721T040000
DTEND;TZID=America/New_York:20250725T130000
DTSTAMP:20260419T183040
CREATED:20250331T032337Z
LAST-MODIFIED:20250522T050523Z
UID:998-1753070400-1753448400@columbuspack41.com
SUMMARY:STEM Camp (optional)
DESCRIPTION:STEM Camp July 21-25\n\nIt looks like this operates like Day Camp and an adult should plan on attending as a den walker one day Mon-Thurs.\n\nhttps://skcscouts.org/camps/summercamps/stemcamp/\n  \nScholarships are available for all camps\, apply here if you have need: https://247scouting.com/forms/441-25SKCCampership
URL:https://columbuspack41.com/event/stem-camp-optional/
LOCATION:Camp Lazarus\, 4422 Columbus Pike\, Delaware\, OH\, 43015\, United States
END:VEVENT
BEGIN:VEVENT
DTSTART;TZID=America/New_York:20250722T143000
DTEND;TZID=America/New_York:20250722T160000
DTSTAMP:20260419T183040
CREATED:20250522T040913Z
LAST-MODIFIED:20250618T061554Z
UID:1015-1753194600-1753200000@columbuspack41.com
SUMMARY:(optional): Keep Columbus Beautiful-Glen Echo
DESCRIPTION:Pack 41 has a range of optional events to participate in this summer. Do 3 and earn a “summer adventure” belt loop! \nMeet Up Location for Keep Columbus Beautiful: Plan to meet at the easternmost side of the park. This is the opposite end of the Bird Tunnel. Park around Cliffside/Glenmawr and take the paved walkway down to the park. We will meet at the clearing at the bottom of the hill. (Paved walkway starts roughly at 537 Cliffside Drive\, Columbus\, OH 43202 if you are using GPS to get to the site)\n\n\nDetails: Come participate in a Council wide creek clean up. Scout packs throughout the Simon Kenton Council will clean up litter from local creeks\, rivers\, lakes\, etc.  Cubs can use this event to earn the Scouting for Clean Waterways Patch–details here: https://www.scouting.org/outdoor-programs/scouting-clean-waterways/cubscouts/ here: https://www.scouting.org/outdoor-programs/scouting-clean-waterways/councils/\n\nWe hope to receive donations of clean up supplies (trash bags\, gloves\, etc.) but please bring your own if you can.\n\nOrganizer: Mike Kocinski\n\n\nTiming: time of event is now confirmed as of 6/17/25
URL:https://columbuspack41.com/event/optional-keep-columbus-beautiful-glen-echo/
LOCATION:Ohio
END:VEVENT
END:VCALENDAR