BEGIN:VCALENDAR
VERSION:2.0
PRODID:-//Pack 41 - ECPv6.15.20//NONSGML v1.0//EN
CALSCALE:GREGORIAN
METHOD:PUBLISH
X-ORIGINAL-URL:https://columbuspack41.com
X-WR-CALDESC:Events for Pack 41
REFRESH-INTERVAL;VALUE=DURATION:PT1H
X-Robots-Tag:noindex
X-PUBLISHED-TTL:PT1H
BEGIN:VTIMEZONE
TZID:America/New_York
BEGIN:DAYLIGHT
TZOFFSETFROM:-0500
TZOFFSETTO:-0400
TZNAME:EDT
DTSTART:20240310T070000
END:DAYLIGHT
BEGIN:STANDARD
TZOFFSETFROM:-0400
TZOFFSETTO:-0500
TZNAME:EST
DTSTART:20241103T060000
END:STANDARD
BEGIN:DAYLIGHT
TZOFFSETFROM:-0500
TZOFFSETTO:-0400
TZNAME:EDT
DTSTART:20250309T070000
END:DAYLIGHT
BEGIN:STANDARD
TZOFFSETFROM:-0400
TZOFFSETTO:-0500
TZNAME:EST
DTSTART:20251102T060000
END:STANDARD
BEGIN:DAYLIGHT
TZOFFSETFROM:-0500
TZOFFSETTO:-0400
TZNAME:EDT
DTSTART:20260308T070000
END:DAYLIGHT
BEGIN:STANDARD
TZOFFSETFROM:-0400
TZOFFSETTO:-0500
TZNAME:EST
DTSTART:20261101T060000
END:STANDARD
END:VTIMEZONE
BEGIN:VEVENT
DTSTART;TZID=America/New_York:20250609T040000
DTEND;TZID=America/New_York:20250612T130000
DTSTAMP:20260419T195722
CREATED:20250331T031052Z
LAST-MODIFIED:20250331T031555Z
UID:992-1749441600-1749733200@columbuspack41.com
SUMMARY:Webelos Summer Camp (optional)
DESCRIPTION:This is for kids who will be Webelos or AOLs next year (so kids going in to 4th and 5th grades next year).\nhttps://skcscouts.org/camps/summercamps/webelos-resident-camp-camp-falling-rock/\n\nScholarships are available for all camps\, apply here if you have need: https://247scouting.com/forms/441-25SKCCampership
URL:https://columbuspack41.com/event/webelos-summer-camp-optional/
LOCATION:Ohio
END:VEVENT
BEGIN:VEVENT
DTSTART;TZID=America/New_York:20250610T140000
DTEND;TZID=America/New_York:20250610T160000
DTSTAMP:20260419T195722
CREATED:20250522T040500Z
LAST-MODIFIED:20250522T050349Z
UID:1010-1749564000-1749571200@columbuspack41.com
SUMMARY:(optional) Sharon Woods-Schrock Lake
DESCRIPTION:Pack 41 has a range of optional events to participate in this summer. Do 3 and earn a “summer adventure” belt loop! \nDo a hike at Sharon Woods. Meet at Schrock Lake at 6pm. Contact Jennifer Rounds (lion leader) for more info. \nSharon Woods
URL:https://columbuspack41.com/event/optional-sharon-woods-schrock-lake/
LOCATION:Sharon Woods
END:VEVENT
END:VCALENDAR