BEGIN:VCALENDAR
VERSION:2.0
PRODID:-//Pack 41 - ECPv6.15.20//NONSGML v1.0//EN
CALSCALE:GREGORIAN
METHOD:PUBLISH
X-WR-CALNAME:Pack 41
X-ORIGINAL-URL:https://columbuspack41.com
X-WR-CALDESC:Events for Pack 41
REFRESH-INTERVAL;VALUE=DURATION:PT1H
X-Robots-Tag:noindex
X-PUBLISHED-TTL:PT1H
BEGIN:VTIMEZONE
TZID:America/New_York
BEGIN:DAYLIGHT
TZOFFSETFROM:-0500
TZOFFSETTO:-0400
TZNAME:EDT
DTSTART:20240310T070000
END:DAYLIGHT
BEGIN:STANDARD
TZOFFSETFROM:-0400
TZOFFSETTO:-0500
TZNAME:EST
DTSTART:20241103T060000
END:STANDARD
BEGIN:DAYLIGHT
TZOFFSETFROM:-0500
TZOFFSETTO:-0400
TZNAME:EDT
DTSTART:20250309T070000
END:DAYLIGHT
BEGIN:STANDARD
TZOFFSETFROM:-0400
TZOFFSETTO:-0500
TZNAME:EST
DTSTART:20251102T060000
END:STANDARD
BEGIN:DAYLIGHT
TZOFFSETFROM:-0500
TZOFFSETTO:-0400
TZNAME:EDT
DTSTART:20260308T070000
END:DAYLIGHT
BEGIN:STANDARD
TZOFFSETFROM:-0400
TZOFFSETTO:-0500
TZNAME:EST
DTSTART:20261101T060000
END:STANDARD
END:VTIMEZONE
BEGIN:VEVENT
DTSTART;TZID=America/New_York:20250517T090000
DTEND;TZID=America/New_York:20250518T060000
DTSTAMP:20260419T212445
CREATED:20250303T222214Z
LAST-MODIFIED:20250408T171056Z
UID:971-1747472400-1747548000@columbuspack41.com
SUMMARY:Pack 41 Spring Camp Out
DESCRIPTION:The Pack 41 Spring Camp Out will occur this weekend. \nRSVP to: Paul Erwin (you can find his email in Anne’s weekly email chains) \nIf you’re interested in camping on Friday\, May 16\, please let Paul or Anne know. This night is not an official Pack event\, but we do have the site available if you would like to camp with your family. \nCAMPSITE:\nYouth Group Site #1 and #2\n(Campsites are connected) \nSee emailed map or visit camp office for directions to campsite \n*TENT CAMPING – RSVP with Paul Erwin – need adult and scout names attending \n*Signup genius will follow – hot dog roast and s’mores for dinner\, scouts are on their own for snacks and breakfast\n*all adults that attend must have taken Youth Protection online training
URL:https://columbuspack41.com/event/pack-41-spring-camp-out/
LOCATION:Hocking Hills State Park\, 19852 S.R. 664 S\, Logan\, OH\, 43138\, United States
END:VEVENT
END:VCALENDAR